Workbook

Sheet Data Contents
B3: 대한유화 2025 ESG Factbook
C5: 조직규모/경제 | E5: 환경 | G5: 사회 | I5: 지배구조
C6: 1 | D6: 조직 규모 | E6: 1 | F6: 조직 내부에서의 에너지소비 | G6: 1 | H6: 범주별 임직원의 구성현황 | I6: 1 | J6: 최고 거버넌스 기구(이사회)와 그 위원회 구성
C7: 2 | D7: 직접적인 경제가치 발생과 분배 | E7: 2 | F7: 에너지 집약도 | G7: 2 | H7: 신규 채용 임직원 | I7: 2 | J7: 범주별 거버넌스 기구의 구성 현황
C8: 3 | D8: 정부 주식 보유 여부 | E8: 3 | F8: 에너지 소비 감축 | G8: 3 | H8: 임직원 근속 연수 | I8: 3 | J8: 최고 거버넌스 기구(이사회)와 그 위원회 운영
E9: 4 | F9: 용수사용 총량 및 재활용 비율 | G9: 4 | H9: 임직원 보수 | I9: 4 | J9: 최고 거버넌스 기구(이사회)에 보고된 중요 사항의 성격과 총 개수
E10: 5 | F10: 폐수 방류 | G10: =G9+1 -> 5 | H10: 인재개발 | I10: 5 | J10: 기업 소유권/운영
E11: 6 | F11: 용수 소비량 (취수량 - 방류량) | G11: =G10+1 -> 6 | H11: 업무성과 및 경력 개발 평가 | I11: 6 | J11: 이해관계자 소통
E12: 7 | F12: 환경법규 제재 | G12: 7 | H12: 노사관계 | I12: 7 | J12: 윤리경영 / 컴플라이언스
E13: 8 | F13: 직접 온실가스(GHG) 배출 (Scope 1) | G13: =G12+1 -> 8 | H13: 육아휴직 | I13: 8 | J13: 보수 정책
E14: 9 | F14: 간접 온실가스(GHG) 배출 (Scope 2) | G14: =G13+1 -> 9 | H14: 업무관련 상해 - 임직원
E15: 10 | F15: 온실가스 총 배출량 (Scope1+2) | G15: =G14+1 -> 10 | H15: 업무관련 상해 - 협력사
E16: 11 | F16: 온실가스(GHG) 배출 집약도 | G16: 11 | H16: 업무상 질병 - 임직원
E17: 12 | F17: 온실가스(GHG) 배출 절감 | G17: 12 | H17: 업무상 질병 - 협력사
E18: 13 | F18: NOx, SOx 및 기타 중요한 대기 배출물 | G18: 13 | H18: 안전경영 교육
E19: 14 | F19: 오존파괴물질(ODS) | G19: 14 | H19: 공급망 관리
E20: 15 | F20: 수질 오염 물질 | G20: 15 | H20: 주요 사업장에서 현지 공급업체에 지급하는 지출 비율
E21: 16 | F21: 폐기물 발생량 | G21: 16 | H21: 지역사회 임팩트
E22: 17 | F22: 제품 전과정평가(LCA) | G22: 17 | H22: 정보보호 투자
E23: 18 | F23: 화학물질 | G23: 18 | H23: 고객개인정보보호 위반 및 고객정보 분실 사실이 입증된 불만건수
E24: 19 | F24: 친환경 제품/서비스 구매 실적 | G24: 19 | H24: 제품 및 서비스의 안전보건 영향
E25: 20 | F25: 재생원료 사용 실적 | G25: 20 | H25: 사회적/경제적 측면의 법률 및 규정 위반
E26: 21 | F26: 친환경/사회 제품 개발 | G26: 21 | H26: 위험성 평가
E27: 22 | F27: 환경경영 교육 | G27: 22 | H27: 사업장 내 안전 및 보건
E28: 23 | F28: 생물다양성 | G28: 23 | H28: 사내 비상대응 훈련
G29: 24 | H29: 고충 처리 현황
G30: 25 | H30: 고객개인정보보호 임직원 교육
K33: Updated : 2026. 06.

Sheet 경제
A1: 대한유화 조직규모경제 지표
A2: 지표 | C2: 사업장 | D2: 단위 | E2: 2023년 | F2: 2024년 | G2: 2025년 | H2: 비고
B3: 1. 조직 규모
B4: 임직원 수 | C4: 본사 | D4: 명 | E4: 102 | F4: 100 | G4: 98 | H4: - 등기, 미등기임원, 비상근 등 포함
C5: 울산 | D5: 명 | E5: 394 | F5: 425 | G5: 423 | H5: - 등기, 미등기임원, 비상근 등 포함
C6: 온산 | D6: 명 | E6: 347 | F6: 359 | G6: 356 | H6: - 등기, 미등기임원, 비상근 등 포함
C7: 전사 | D7: 명 | E7: 843 | F7: 884 | G7: 877 | H7: - 등기, 미등기임원, 비상근 등 포함
B8: 사업장 수 | C8: 전사 | D8: 개 | E8: 3 | F8: 3 | G8: 3
B9: 순 매출 (연결기준) | C9: 전사 | D9: 원 | E9: 2499972627941 | F9: 2800102662159 | G9: 3347821791902
B10: 자기자본 | C10: 전사 | D10: 원 | E10: 1824790602135 | F10: 1807642130951 | G10: 2081469764215
B11: 부채 | C11: 전사 | D11: 원 | E11: 371702112202 | F11: 412100919394 | G11: 618855781516
B12: 2. 직접적인 경제가치 발생과 분배*
B13: 직접적인 경제가치 - 수익 (영업이익) | C13: 전사 | D13: 원 | E13: -62321327716 | F13: -59892625042 | G13: 52668902480
B14: 직접적인 경제가치 - 당기순이익 | C14: 전사 | D14: 원 | E14: -29040720790 | F14: -8528518983 | G14: 55896051028
B15: 경제적 가치 분배 - 법인세(정부에 지급하는 지불금) | C15: 전사 | D15: 원 | E15: -20887988077 | F15: -24442934996 | G15: 16037567309
B16: 경제적 가치 분배 - 임직원(인건비) | C16: 전사 | D16: 천 원 | E16: 97295125 | F16: 100155279 | G16: 128906583
B17: 경제적 가치 분배 - 복리후생비 | C17: 전사 | D17: 천 원 | E17: 1698575 | F17: 1738618 | G17: 3870153
B18: 경제적 가치 분배 - 주주(배당금) | C18: 전사 | D18: 천 원 | E18: 6176100 | F18: 6176100 | G18: 6176100
B19: 경제적 가치 분배 - 기부금 | C19: 전사 | D19: 천 원 | E19: 190315 | F19: 156902 | G19: 201420 | H19: - 연결기준
B20: 로비 이익 대표, 혹은 이와 유사단체 | C20: 전사 | D20: 천 원 | E20: 0 | F20: 0 | G20: 0
B21: 국가, 지자체 정치 캠페인, 단체, 후보자 | C21: 전사 | D21: 천 원 | E21: 0 | F21: 0 | G21: 0
B22: 그 외 비엽리법인 및 협회 등 | C22: 전사 | D22: 천 원 | E22: 190315 | F22: 156902 | G22: 201420
B23: 법인세비용차감전순이익(손실) | C23: 전사 | D23: 천 원 | E23: -49928709 | F23: -32971454 | G23: 71933618 | H23: - 연결기준
B24: 명목세액 | C24: 전사 | D24: 천 원 | E24: -11533532 | F24: -3266021 | G24: 16945936 | H24: - 연결기준
B25: 실질세액 | C25: 전사 | D25: 천 원 | E25: -20887988 | F25: -24442935 | G25: 16037567 | H25: - 연결기준
B26: 명목세율 | C26: 전사 | D26: % | E26: =E24/E23*100 -> 23.1 | F26: =F24/F23*100 -> 9.905602 | G26: =G24/G23*100 -> 23.557742 | H26: - 명목세액/법인세비용차감전순이익*100
B27: 실질세율 | C27: 전사 | D27: % | E27: =E25/E23*100 -> 41.835626 | F27: =F25/F23*100 -> 74.133628 | G27: =G25/G23*100 -> 22.294954 | H27: - 실질세액/법인세비용차감전순이익*100
B28: 3. 정부 주식 보유 여부
B29: 정부의 주식보유 비율 | C29: 전사 | D29: % | E29: 11.66 | F29: 7.94 | G29: 10.54

Sheet 환경
A1: 대한유화 환경(E) 지표
A2: 지표 | D2: 사업장 | E2: 단위 | F2: 2023년 | G2: 2024년 | H2: 2025년 | I2: 비고
B3: 1. 조직 내부에서의 에너지 소비
B4: 비재생에너지 사용량 - 액체 연료 (C9+, MFO 등. 단, 유류(경유, 휘발유) 제외) | D4: 울산 | E4: TJ | F4: 0 | G4: 0.168 | H4: 0
D5: 온산 | E5: TJ | F5: 2592.537 | G5: 2486.308 | H5: 2530
D6: 본사 | E6: TJ | F6: 0 | G6: 0 | H6: 0
D7: 전사 | E7: TJ | F7: 2592.537 | G7: =SUM(G4:G6) -> 2486.476 | H7: =SUM(H4:H6) -> 2530
B8: 비재생에너지 사용량 - 기체 연료 (LNG, LPG, CH4 등) | D8: 울산 | E8: TJ | F8: 702.63 | G8: 646.377 | H8: 733.567
D9: 온산 | E9: TJ | F9: 25064.899 | G9: 25899.917 | H9: 26512.576
D10: 본사 | E10: TJ | F10: 1.362 | G10: 1.352 | H10: 1.431
D11: 전사 | E11: TJ | F11: 25768.89 | G11: =SUM(G8:G10) -> 26547.646 | H11: =SUM(H8:H10) -> 27247.574
B12: 비재생에너지 사용량 - 유류 (경유, 휘발유) | D12: 울산 | E12: TJ | F12: 8.45 | G12: 7.694 | H12: 7.379
D13: 온산 | E13: TJ | F13: 5.345 | G13: 5.547 | H13: 5.506
D14: 본사 | E14: TJ | F14: 1.428 | G14: 1.489 | H14: 1.462
D15: 전사 | E15: TJ | F15: 15.22 | G15: =SUM(G12:G14) -> 14.73 | H15: =SUM(H12:H14) -> 14.347
B16: 조직 내부 총 에너지 사용량 | D16: 울산 | E16: TJ | F16: =F4+F8+F12+F20+F24+F28 -> 5946.77 | G16: =G4+G8+G12+G20+G24+G28 -> 5781.1011 | H16: =H4+H8+H12+H20+H24+H28 -> 5708.2675
D17: 온산 | E17: TJ | F17: =F5+F9+F13+F21+F25+F29-F32-F33 -> 26909.686 | G17: =G5+G9+G13+G21+G25+G29-G32-G33 -> 27516.91 | H17: =H5+H9+H13+H21+H25+H29-H32-H33 -> 27919.473 | I17: - 2024 데이터 취합 오류로 정정 공시
D18: 본사 | E18: TJ | F18: =F6+F10+F14+F22+F26+F30 -> 4.218 | G18: =G6+G10+G14+G22+G26+G30 -> 4.306 | H18: =H6+H10+H14+H22+H26+H30 -> 4.377
D19: 전사 | E19: TJ | F19: =SUM(F16:F18) -> 32860.674 | G19: =SUM(G16:G18) -> 33302.317 | H19: =SUM(H16:H18) -> 33632.118
B20: 재생에너지 사용량 - 태양광 | D20: 울산 | E20: TJ | F20: 0 | G20: 0.1011 | H20: 1.1355
D21: 온산 | E21: TJ | F21: 1.505 | G21: 1.508 | H21: 1.596
D22: 본사 | E22: TJ | F22: 0 | G22: 0 | H22: 0
D23: 전사 | E23: TJ | F23: =SUM(F20:F22) -> 1.505 | G23: =SUM(G20:G22) -> 1.6091 | H23: =SUM(H20:H22) -> 2.7315
B24: 전기 소비량 | D24: 울산 | E24: TJ | F24: 3385.61 | G24: 3326.355 | H24: 3282.418
D25: 온산 | E25: TJ | F25: 178 | G25: 26 | H25: 85.062
D26: 본사 | E26: TJ | F26: 1.428 | G26: 1.465 | H26: 1.484
D27: 전사 | E27: TJ | F27: =SUM(F24:F26) -> 3565.038 | G27: =SUM(G24:G26) -> 3353.82 | H27: =SUM(H24:H26) -> 3368.964
B28: 스팀 소비량 | D28: 울산 | E28: TJ | F28: 1850.08 | G28: 1800.406 | H28: 1683.768
D29: 온산 | E29: TJ | F29: 0 | G29: 0 | H29: 0
D30: 본사 | E30: TJ | F30: 0 | G30: 0 | H30: 0
D31: 전사 | E31: TJ | F31: =SUM(F28:F30) -> 1850.08 | G31: =SUM(G28:G30) -> 1800.406 | H31: =SUM(H28:H30) -> 1683.768
B32: 전기 판매량 | D32: 전사 | E32: TJ | F32: 880.27 | G32: 837.24 | H32: 1148.149
B33: 스팀 판매량 | D33: 전사 | E33: TJ | F33: 52.33 | G33: 65.13 | H33: 67.118
B34: 조직 내부 재생에너지 사용 비율 | D34: 전사 | E34: % | F34: 0.1% 이하 | G34: 0.1% 이하 | H34: 0.1% 이하
B35: 조직 내부 자체 생성 에너지 총량 | D35: 전사 | E35: TJ | F35: 19722.815 | G35: 20108.964 | H35: 20863.76
B36: 2. 에너지 집약도
B37: 에너지 집약도 (매출액 원단위) | D37: 전사 | E37: TJ/억원 | F37: =F19/경제!E9*100000000 -> 1.3144414 | G37: =G19/경제!F9*100000000 -> 1.1893249 | H37: =H19/경제!G9*100000000 -> 1.004597 | I37: - 매출액 원단위 연결기준
B38: 3. 에너지 소비 감축
B39: 에너지 소비 감축량 (에너지 보존, 효율성 개선 기반) | D39: 전사 | E39: TOE | F39: 5172.86 | G39: 2252.03 | H39: 9135.3
B40: 4. 용수사용 총량 및 재활용 비율
...

Sheet 사회
A1: 대한유화 사회(S) 지표
A2: 지표 | D2: 사업장 | E2: 단위 | F2: 2023년 | G2: 2024년 | H2: 2025년 | I2: 비고
B3: 1. 범주별 임직원의 구성 현황
B4: 성별 | C4: 남성 임직원 비율 | D4: 전사 | E4: % | F4: 96.8 | G4: 96.8 | H4: 96.9
C5: 여성 임직원 비율 | D5: 전사 | E5: % | F5: 3.2 | G5: 3.2 | H5: 3.1
B6: 연령별 | C6: 30세 미만 임직원 비율 | D6: 전사 | E6: % | F6: 20.05 | G6: 23.76 | H6: 22.92
C7: 30~50세 임직원 비율 | D7: 전사 | E7: % | F7: 39.98 | G7: 42.31 | H7: 48
C8: 50세 초과 임직원 비율 | D8: 전사 | E8: % | F8: 39.98 | G8: 33.48 | H8: 29.08
B9: 다양성 | C9: 내국인(동양인) 임직원 비율 | D9: 전사 | E9: % | F9: 100 | G9: 100 | H9: 100 | I9: - 대한유화 임직원은 아시아인(100%)로 구성되어 있음
C10: 외국인 임직원 비율 | D10: 전사 | E10: % | F10: 0 | G10: 0 | H10: 0
C11: 장애인 임직원 비율 | D11: 전사 | E11: % | F11: 0.72 | G11: 0.8 | H11: 1.14
C12: 보훈 임직원 비율 | D12: 전사 | E12: % | F12: 4.39 | G12: 4 | H12: 3.65
B13: 종신 계약 | C13: 남성 임직원 수 | D13: 전사 | E13: 명 | F13: 762 | G13: 792 | H13: 777
C14: 여성 임직원 수 | D14: 전사 | E14: 명 | F14: 27 | G14: 27 | H14: 27
B15: 기간제 계약 | C15: 남성 임직원 수 | D15: 전사 | E15: 명 | F15: 54 | G15: 64 | H15: 73
C16: 여성 임직원 수 | D16: 전사 | E16: 명 | F16: 0 | G16: 1 | H16: 0
B17: 여성 관리직 | C17: 수 | D17: 전사 | E17: 명 | F17: 0 | G17: 0 | H17: 0
C18: 비율 | D18: 전사 | E18: % | F18: 0 | G18: 0 | H18: 0
B19: 2. 신규 채용 임직원
B20: 성별 | C20: 남성 임직원 수 | D20: 전사 | E20: 명 | F20: 81 | G20: 143 | H20: 106
C21: 여성 임직원 수 | D21: 전사 | E21: 명 | F21: 1 | G21: 2 | H21: 1
C22: 전체 임직원 수 | D22: 전사 | E22: 명 | F22: 82 | G22: 145 | H22: 107
C23: 남성 임직원 비율 | D23: 전사 | E23: % | F23: 98.78 | G23: 98.62 | H23: 99.07
C24: 여성 임직원 비율 | D24: 전사 | E24: % | F24: 1.22 | G24: 1.38 | H24: 0.93
C25: 전체 임직원 비율 | D25: 전사 | E25: % | F25: 9.28 | G25: 16.4 | H25: 12.2
B26: 연령별 | C26: 30세 미만 임직원 수 | D26: 전사 | E26: 명 | F26: 46 | G26: 103 | H26: 60
C27: 30세~50세 미만 임직원 수 | D27: 전사 | E27: 명 | F27: 10 | G27: 24 | H27: 28
C28: 50세 이상 임직원 수 | D28: 전사 | E28: 명 | F28: 26 | G28: 18 | H28: 19
C29: 30세 미만 임직원 비율 | D29: 전사 | E29: % | F29: 56.1 | G29: 71.03 | H29: 56.07
C30: 30세~50세 미만 임직원 비율 | D30: 전사 | E30: % | F30: 12.2 | G30: 16.55 | H30: 26.17
C31: 50세 이상 임직원 비율 | D31: 전사 | E31: % | F31: 31.71 | G31: 12.41 | H31: 17.76
B32: 3. 임직원 근속연수
B33: 임직원 평균 근속연수 | D33: 전사 | E33: 년 | F33: 16.7 | G33: 14.62 | H33: 13.47
B34: 4. 임직원 보수
B35: 평균 급여 | C35: 남성 | D35: 전사 | E35: 백만 원 | F35: 100 | G35: 101 | H35: 97
C36: 여성 | D36: 전사 | E36: 백만 원 | F36: 58 | G36: 64 | H36: 62
B37: 남성 대비 여성 보수 비율 | D37: 전사 | E37: % | F37: 58 | G37: 63.37 | H37: 63.92 | I37: - 여성의 기본 급여/남성의 기본 급여
B38: 5. 인재개발
B39: 교육 시간 | C39: 전체 교육시간 | D39: 전사 | E39: 시간 | F39: 3248 | G39: 3340 | H39: 3492 | I39: - 전사 법정의무교육 기준 - 연중 입퇴사자 반영된 수치로 '경제'의 임직원 수와 상이
C40: 1인당 교육시간 | D40: 전사 | E40: 시간 | F40: 4 | G40: 4 | H40: 4 | I40: - 전사 법정의무교육 기준
...

Sheet 지배구조
A1: 대한유화 지배구조(G) 지표
A2: 지표 | D2: 사업장 | E2: 단위 | F2: 2023년 | G2: 2024년 | H2: 2025년 | I2: 비고
B3: 1. 최고 거버넌스 기구(이사회)와 그 위원회 구성
B4: 이사회 구성 인원 수 | D4: 전사 | E4: 명 | F4: 7 | G4: 7 | H4: 7
B5: 독립이사 | C5: 수 | D5: 전사 | E5: 명 | F5: 4 | G5: 4 | H5: 4
C6: 비율 | D6: 전사 | E6: % | F6: 57.1 | G6: 57.1 | H6: 57
B7: 이사회 평균 임기 | D7: 전사 | E7: 년 | F7: 6.43 | G7: 7.43 | H7: 8.43
B8: 이사회 내 여성 이사 | C8: 수 | D8: 전사 | E8: 명 | F8: 1 | G8: 1 | H8: 1
C9: 비율 | D9: 전사 | E9: % | F9: 14.3 | G9: 14.3 | H9: 14.3
B10: 등기임원 중 지배주주 및 친인척이 아닌 여성 임원의 수 | D10: 전사 | E10: 명 | F10: 1 | G10: 1 | H10: 1
B11: 감사위원회 구성 독립이사 수 | D11: 전사 | E11: 명 | F11: 3 | G11: 3 | H11: 3 | I11: - 전원 독립이사로 구성
B12: 감사위원회 위원 중에 법상 회계 또는 재무 전문가 요건을 충족하는 위원의 수 | D12: 전사 | E12: 명 | F12: 2 | G12: 2 | H12: 2 | I12: - 사업보고서 VI. 이사회 등 회사의 기관에 관한 사항
B13: 독립이사후보추천위원회 구성 이사의 수 | D13: 전사 | E13: 명 | F13: 3 | G13: 3 | H13: 3 | I13: - 독립이사 2명, 사내이사 1명으로 구성
B14: 2. 범주별 거버넌스 기구의 구성 현황 (연말 사업보고서 기준)
B15: 성별 | C15: 남성 이사회 인원수 | D15: 전사 | E15: 명 | F15: 6 | G15: 6 | H15: 6
C16: 여성 이사회 인원수 | D16: 전사 | E16: 명 | F16: 1 | G16: 1 | H16: 1
B17: 연령별 | C17: 30세 미만 이사회 인원 수 | D17: 전사 | E17: 명 | F17: 0 | G17: 0 | H17: 0
C18: 30세 이상 50세 미만 이사회 인원 수 | D18: 전사 | E18: 명 | F18: 0 | G18: 0 | H18: 0
C19: 50세 이상 이사회 인원 수 | D19: 전사 | E19: 명 | F19: 7 | G19: 7 | H19: 7
B20: 3. 최고 거버넌스 기구(이사회)와 그 위원회 운영
B21: 이사회 개최횟수 | D21: 전사 | E21: 회 | F21: 6 | G21: 7 | H21: 7
B22: 감사위원회 개최횟수 | D22: 전사 | E22: 회 | F22: 5 | G22: 5 | H22: 5
B23: 이사 교육 참여 시간 | D23: 전사 | E23: 시간 | F23: 1 | G23: 1 | H23: 1
B24: 주주총회 소집공고 사전통지 기간 | D24: 전사 | E24: 주 | F24: 2 | G24: 2 | H24: 2 | I24: - 지배구조보고서 내 명시
B25: 모든 이사회 안건에 대해 이사회 구성원이 충분히 검토할 수 있도록 하는 사전통지 최소 통지 기간 | D25: 전사 | E25: 주 | F25: 1 | G25: 1 | H25: 1
B26: 외부감사인에 지급한 감사용역보수 대비 비감사용역보수 수준 | D26: 전사 | E26: % | F26: 0 | G26: 0 | H26: 0
B27: 출석률 (75% 미만) 저조한 독립이사 수 | D27: 전사 | E27: 명 | F27: 1 | G27: 1 | H27: 0
B28: 독립이사가 반대 또는 수정의견을 제시한 안건 수 | D28: 전사 | E28: 건 | F28: 0 | G28: 0 | H28: 0
B29: 4. 최고 거버넌스 기구(이사회)에 보고된 중요 사항의 성격과 총 개수
B30: 이사회에 보고된 중요사항의 보고 횟수 | D30: 전사 | E30: 회 | F30: 6 | G30: 7 | H30: 7
B31: 5. 기업 소유권/운영
B32: 최대주주 및 특수관계인의 지분율 | D32: 전사 | E32: % | F32: 39.21 | G32: 39.11 | H32: 39.07
B33: 최대주주 및 특수관계인을 제외한 사내이사의 지분율 합계 | D33: 전사 | E33: % | F33: 0.01 | G33: 0.01 | H33: 0.01
B34: 최대주주 및 특수관계인(임원 및 계열회사 포함)을 제외한 5% 이상 지분보유자의 지분율 | D34: 전사 | E34: % | F34: 11.66 | G34: 7.94 | H34: 10.54 | I34: - 사업보고서 VII. 주주에 관한 사항
B35: 등기임원의 지분율 합계 | D35: 전사 | E35: % | F35: 2.56 | G35: 2.56 | H35: 2.56
B36: 계열회사에 대한 당사의 지분율 | C36: (주)코리아에어텍 | D36: 전사 | E36: % | F36: 100 | G36: 100 | H36: 100 | I36: - 사업보고서 XII. 상세표 - 타법인출자 현황
C37: 오드펠터미널코리아㈜ | D37: 전사 | E37: % | F37: 43.59 | G37: 43.59 | H37: 43.59
C38: ㈜한주 | D38: 전사 | E38: % | F38: 49.24 | G38: 49.24 | H38: 50.13
C39: KPIC DAWN (SHANGHAI) POLYMER | D39: 전사 | E39: % | F39: 50 | G39: 50 | H39: 50
B40: 자기주식 | C40: 매입 금액 | D40: 전사 | E40: 원 | F40: 0 | G40: 0 | H40: 0 | I40: - 사업보고서 I. 회사의 개요 - 4. 주식의 총수 등
...
