Workbook

Sheet Data Contents
B3: KPIC 2025 ESG Factbook
C5: Organizational Scale / Economic | E5: Environment | G5: Social | I5: Governance
C6: 1 | D6: Organizational scale | E6: 1 | F6: Energy consumption within the organization | G6: 1 | H6: Employee composition by category | I6: 1 | J6: Composition of the highest governance body (Board of Directors) and its committees
C7: 2 | D7: Direct economic value generated and distributed | E7: 2 | F7: Energy intensity | G7: 2 | H7: New employee hires | I7: 2 | J7: Composition of the governance body by category
C8: 3 | D8: Government shareholding | E8: 3 | F8: Reduction of energy consumption | G8: 3 | H8: Employee length of service | I8: 3 | J8: Operation of the highest governance body (Board) and its committees
E9: 4 | F9: Total water withdrawal and recycling rate | G9: 4 | H9: Employee remuneration | I9: 4 | J9: Nature and total number of critical concerns communicated to the highest governance body (Board)
E10: 5 | F10: Wastewater discharge | G10: =G9+1 -> 5 | H10: Talent development | I10: 5 | J10: Corporate ownership / operation
E11: 6 | F11: Water consumption (withdrawal minus discharge) | G11: =G10+1 -> 6 | H11: Work performance and career development evaluation | I11: 6 | J11: Stakeholder communication
E12: 7 | F12: Sanctions under environmental laws and regulations | G12: 7 | H12: Labor relations | I12: 7 | J12: Ethical management / compliance
E13: 8 | F13: Direct greenhouse gas (GHG) emissions (Scope 1) | G13: =G12+1 -> 8 | H13: Parental leave | I13: 8 | J13: Remuneration policy
E14: 9 | F14: Indirect greenhouse gas (GHG) emissions (Scope 2) | G14: =G13+1 -> 9 | H14: Work-related injuries - employees
E15: 10 | F15: Total GHG emissions (Scope 1+2) | G15: =G14+1 -> 10 | H15: Work-related injuries - suppliers
E16: 11 | F16: Greenhouse gas (GHG) emissions intensity | G16: 11 | H16: Work-related ill health - employees
E17: 12 | F17: Reduction of greenhouse gas (GHG) emissions | G17: 12 | H17: Work-related ill health - suppliers
E18: 13 | F18: NOx, SOx and other significant air emissions | G18: 13 | H18: Safety management training
E19: 14 | F19: Ozone-depleting substances (ODS) | G19: 14 | H19: Supply chain management
E20: 15 | F20: Water pollutants | G20: 15 | H20: Proportion of spending on local suppliers at significant locations of operation
E21: 16 | F21: Waste generation | G21: 16 | H21: Local community impact
E22: 17 | F22: Product life cycle assessment (LCA) | G22: 17 | H22: Information security investment
E23: 18 | F23: Chemical substances | G23: 18 | H23: Substantiated complaints concerning breaches of customer privacy and losses of customer data
E24: 19 | F24: Purchases of eco-friendly products/services | G24: 19 | H24: Health and safety impacts of products and services
E25: 20 | F25: Use of recycled feedstock | G25: 20 | H25: Violations of laws and regulations in the social and economic areas
E26: 21 | F26: Development of eco-friendly and socially beneficial products | G26: 21 | H26: Risk assessment
E27: 22 | F27: Environmental management training | G27: 22 | H27: Safety and health at the workplace
E28: 23 | F28: Biodiversity | G28: 23 | H28: In-house emergency response drills
G29: 24 | H29: Grievance handling
G30: 25 | H30: Employee training on customer privacy protection
K33: Updated : 2026. 06.

Sheet Economic
A1: KPIC Organizational Scale / Economic Indicators
A2: Indicator | C2: Site | D2: Unit | E2: 2023 | F2: 2024 | G2: 2025 | H2: Remarks
B3: 1. Organizational scale
B4: Number of employees | C4: Head office | D4: Persons | E4: 102 | F4: 100 | G4: 98 | H4: - Includes registered and unregistered executives and non-executive officers
C5: Ulsan | D5: Persons | E5: 394 | F5: 425 | G5: 423
C6: Onsan | D6: Persons | E6: 347 | F6: 359 | G6: 356
C7: Company-wide | D7: Persons | E7: 843 | F7: 884 | G7: 877
B8: Number of sites | C8: Company-wide | D8: Sites | E8: 3 | F8: 3 | G8: 3
B9: Net sales (consolidated) | C9: Company-wide | D9: KRW | E9: 2499972627941 | F9: 2800102662159 | G9: 3347821791902
B10: Equity | C10: Company-wide | D10: KRW | E10: 1824790602135 | F10: 1807642130951 | G10: 2081469764215
B11: Liabilities | C11: Company-wide | D11: KRW | E11: 371702112202 | F11: 412100919394 | G11: 618855781516
B12: 2. Direct economic value generated and distributed*
B13: Direct economic value generated - operating profit | C13: Company-wide | D13: KRW | E13: -62321327716 | F13: -59892625042 | G13: 52668902480
B14: Direct economic value generated - net income | C14: Company-wide | D14: KRW | E14: -29040720790 | F14: -8528518983 | G14: 55896051028
B15: Economic value distributed - corporate income tax (payments to government) | C15: Company-wide | D15: KRW | E15: -20887988077 | F15: -24442934996 | G15: 16037567309
B16: Economic value distributed - employees (labor costs) | C16: Company-wide | D16: KRW thousand | E16: 97295125 | F16: 100155279 | G16: 128906583
B17: Economic value distributed - employee benefits | C17: Company-wide | D17: KRW thousand | E17: 1698575 | F17: 1738618 | G17: 3870153
B18: Economic value distributed - shareholders (dividends) | C18: Company-wide | D18: KRW thousand | E18: 6176100 | F18: 6176100 | G18: 6176100
B19: Economic value distributed - donations | C19: Company-wide | D19: KRW thousand | E19: 190315 | F19: 156902 | G19: 201420 | H19: - Consolidated basis
B20: Lobbying, interest representation or similar organizations | C20: Company-wide | D20: KRW thousand | E20: 0 | F20: 0 | G20: 0
B21: National/local political campaigns, organizations or candidates | C21: Company-wide | D21: KRW thousand | E21: 0 | F21: 0 | G21: 0
B22: Other non-profit organizations, associations, etc. | C22: Company-wide | D22: KRW thousand | E22: 190315 | F22: 156902 | G22: 201420
B23: Profit (loss) before income tax expense | C23: Company-wide | D23: KRW thousand | E23: -49928709 | F23: -32971454 | G23: 71933618 | H23: - Consolidated basis
B24: Nominal tax amount | C24: Company-wide | D24: KRW thousand | E24: -11533532 | F24: -3266021 | G24: 16945936 | H24: - Consolidated basis
B25: Effective tax amount | C25: Company-wide | D25: KRW thousand | E25: -20887988 | F25: -24442935 | G25: 16037567 | H25: - Consolidated basis
B26: Nominal tax rate | C26: Company-wide | D26: % | E26: =E24/E23*100 -> 23.1 | F26: =F24/F23*100 -> 9.905602 | G26: =G24/G23*100 -> 23.557742 | H26: - Nominal tax amount / profit before income tax expense * 100
B27: Effective tax rate | C27: Company-wide | D27: % | E27: =E25/E23*100 -> 41.835626 | F27: =F25/F23*100 -> 74.133628 | G27: =G25/G23*100 -> 22.294954 | H27: - Effective tax amount / profit before income tax expense * 100
B28: 3. Government shareholding
B29: Government shareholding ratio | C29: Company-wide | D29: % | E29: 11.66 | F29: 7.94 | G29: 10.54

Sheet Environmental
A1: KPIC Environmental (E) Indicators
A2: Indicator | D2: Site | E2: Unit | F2: 2023 | G2: 2024 | H2: 2025 | I2: Remarks
B3: 1. Energy consumption within the organization
B4: Non-renewable energy consumption - liquid fuels (C9+, MFO, etc.; excluding petroleum fuels (diesel, gasoline)) | D4: Ulsan | E4: TJ | F4: 0 | G4: 0.168 | H4: 0
D5: Onsan | E5: TJ | F5: 2592.537 | G5: 2486.308 | H5: 2530
D6: Head office | E6: TJ | F6: 0 | G6: 0 | H6: 0
D7: Company-wide | E7: TJ | F7: 2592.537 | G7: =SUM(G4:G6) -> 2486.476 | H7: =SUM(H4:H6) -> 2530
B8: Non-renewable energy consumption - gaseous fuels (LNG, LPG, CH4, etc.) | D8: Ulsan | E8: TJ | F8: 702.63 | G8: 646.377 | H8: 733.567
D9: Onsan | E9: TJ | F9: 25064.899 | G9: 25899.917 | H9: 26512.576
D10: Head office | E10: TJ | F10: 1.362 | G10: 1.352 | H10: 1.431
D11: Company-wide | E11: TJ | F11: 25768.89 | G11: =SUM(G8:G10) -> 26547.646 | H11: =SUM(H8:H10) -> 27247.574
B12: Non-renewable energy consumption - petroleum fuels (diesel, gasoline) | D12: Ulsan | E12: TJ | F12: 8.45 | G12: 7.694 | H12: 7.379
D13: Onsan | E13: TJ | F13: 5.345 | G13: 5.547 | H13: 5.506
D14: Head office | E14: TJ | F14: 1.428 | G14: 1.489 | H14: 1.462
D15: Company-wide | E15: TJ | F15: 15.22 | G15: =SUM(G12:G14) -> 14.73 | H15: =SUM(H12:H14) -> 14.347
B16: Total energy consumption within the organization | D16: Ulsan | E16: TJ | F16: =F4+F8+F12+F20+F24+F28 -> 5946.77 | G16: =G4+G8+G12+G20+G24+G28 -> 5781.1011 | H16: =H4+H8+H12+H20+H24+H28 -> 5708.2675
D17: Onsan | E17: TJ | F17: =F5+F9+F13+F21+F25+F29-F32-F33 -> 26909.686 | G17: =G5+G9+G13+G21+G25+G29-G32-G33 -> 27516.91 | H17: =H5+H9+H13+H21+H25+H29-H32-H33 -> 27919.473 | I17: - Restated due to a 2024 data aggregation error
D18: Head office | E18: TJ | F18: =F6+F10+F14+F22+F26+F30 -> 4.218 | G18: =G6+G10+G14+G22+G26+G30 -> 4.306 | H18: =H6+H10+H14+H22+H26+H30 -> 4.377
D19: Company-wide | E19: TJ | F19: =SUM(F16:F18) -> 32860.674 | G19: =SUM(G16:G18) -> 33302.317 | H19: =SUM(H16:H18) -> 33632.118
B20: Renewable energy consumption - solar | D20: Ulsan | E20: TJ | F20: 0 | G20: 0.1011 | H20: 1.1355
D21: Onsan | E21: TJ | F21: 1.505 | G21: 1.508 | H21: 1.596
D22: Head office | E22: TJ | F22: 0 | G22: 0 | H22: 0
D23: Company-wide | E23: TJ | F23: =SUM(F20:F22) -> 1.505 | G23: =SUM(G20:G22) -> 1.6091 | H23: =SUM(H20:H22) -> 2.7315
B24: Electricity consumption | D24: Ulsan | E24: TJ | F24: 3385.61 | G24: 3326.355 | H24: 3282.418
D25: Onsan | E25: TJ | F25: 178 | G25: 26 | H25: 85.062
D26: Head office | E26: TJ | F26: 1.428 | G26: 1.465 | H26: 1.484
D27: Company-wide | E27: TJ | F27: =SUM(F24:F26) -> 3565.038 | G27: =SUM(G24:G26) -> 3353.82 | H27: =SUM(H24:H26) -> 3368.964
B28: Steam consumption | D28: Ulsan | E28: TJ | F28: 1850.08 | G28: 1800.406 | H28: 1683.768
D29: Onsan | E29: TJ | F29: 0 | G29: 0 | H29: 0
D30: Head office | E30: TJ | F30: 0 | G30: 0 | H30: 0
D31: Company-wide | E31: TJ | F31: =SUM(F28:F30) -> 1850.08 | G31: =SUM(G28:G30) -> 1800.406 | H31: =SUM(H28:H30) -> 1683.768
B32: Electricity sold | D32: Company-wide | E32: TJ | F32: 880.27 | G32: 837.24 | H32: 1148.149
B33: Steam sold | D33: Company-wide | E33: TJ | F33: 52.33 | G33: 65.13 | H33: 67.118
B34: Share of renewable energy within the organization | D34: Company-wide | E34: % | F34: 0.1% or less | G34: 0.1% or less | H34: 0.1% or less
B35: Total self-generated energy within the organization | D35: Company-wide | E35: TJ | F35: 19722.815 | G35: 20108.964 | H35: 20863.76
B36: 2. Energy intensity
B37: Energy intensity (per unit of sales) | D37: Company-wide | E37: TJ/KRW 100 million | F37: =F19/Economic!E9*100000000 -> 1.3144414 | G37: =G19/Economic!F9*100000000 -> 1.1893249 | H37: =H19/Economic!G9*100000000 -> 1.004597 | I37: - Per unit of sales, consolidated basis
B38: 3. Reduction of energy consumption
B39: Reduction in energy consumption (from conservation and efficiency initiatives) | D39: Company-wide | E39: TOE | F39: 5172.86 | G39: 2252.03 | H39: 9135.3
B40: 4. Total water withdrawal and recycling rate
...

Sheet Social
A1: KPIC Social (S) Indicators
A2: Indicator | D2: Site | E2: Unit | F2: 2023 | G2: 2024 | H2: 2025 | I2: Remarks
B3: 1. Employee composition by category
B4: By gender | C4: Percentage of male employees | D4: Company-wide | E4: % | F4: 96.8 | G4: 96.8 | H4: 96.9
C5: Percentage of female employees | D5: Company-wide | E5: % | F5: 3.2 | G5: 3.2 | H5: 3.1
B6: By age | C6: Percentage of employees under 30 | D6: Company-wide | E6: % | F6: 20.05 | G6: 23.76 | H6: 22.92
C7: Percentage of employees aged 30-50 | D7: Company-wide | E7: % | F7: 39.98 | G7: 42.31 | H7: 48
C8: Percentage of employees over 50 | D8: Company-wide | E8: % | F8: 39.98 | G8: 33.48 | H8: 29.08
B9: Diversity | C9: Percentage of Korean (Asian) employees | D9: Company-wide | E9: % | F9: 100 | G9: 100 | H9: 100 | I9: - KPIC's employees are 100% Asian
C10: Percentage of foreign employees | D10: Company-wide | E10: % | F10: 0 | G10: 0 | H10: 0
C11: Percentage of employees with disabilities | D11: Company-wide | E11: % | F11: 0.72 | G11: 0.8 | H11: 1.14
C12: Percentage of employees eligible for veterans' benefits | D12: Company-wide | E12: % | F12: 4.39 | G12: 4 | H12: 3.65
B13: Permanent contract | C13: Number of male employees | D13: Company-wide | E13: Persons | F13: 762 | G13: 792 | H13: 777
C14: Number of female employees | D14: Company-wide | E14: Persons | F14: 27 | G14: 27 | H14: 27
B15: Fixed-term contract | C15: Number of male employees | D15: Company-wide | E15: Persons | F15: 54 | G15: 64 | H15: 73
C16: Number of female employees | D16: Company-wide | E16: Persons | F16: 0 | G16: 1 | H16: 0
B17: Female managers | C17: Number | D17: Company-wide | E17: Persons | F17: 0 | G17: 0 | H17: 0
C18: Percentage | D18: Company-wide | E18: % | F18: 0 | G18: 0 | H18: 0
B19: 2. New employee hires
B20: By gender | C20: Number of male employees | D20: Company-wide | E20: Persons | F20: 81 | G20: 143 | H20: 106
C21: Number of female employees | D21: Company-wide | E21: Persons | F21: 1 | G21: 2 | H21: 1
C22: Total number of employees | D22: Company-wide | E22: Persons | F22: 82 | G22: 145 | H22: 107
C23: Percentage of male employees | D23: Company-wide | E23: % | F23: 98.78 | G23: 98.62 | H23: 99.07
C24: Percentage of female employees | D24: Company-wide | E24: % | F24: 1.22 | G24: 1.38 | H24: 0.93
C25: Percentage of total employees | D25: Company-wide | E25: % | F25: 9.28 | G25: 16.4 | H25: 12.2
B26: By age | C26: Number of employees under 30 | D26: Company-wide | E26: Persons | F26: 46 | G26: 103 | H26: 60
C27: Number of employees aged 30 to under 50 | D27: Company-wide | E27: Persons | F27: 10 | G27: 24 | H27: 28
C28: Number of employees aged 50 and over | D28: Company-wide | E28: Persons | F28: 26 | G28: 18 | H28: 19
C29: Percentage of employees under 30 | D29: Company-wide | E29: % | F29: 56.1 | G29: 71.03 | H29: 56.07
C30: Percentage of employees aged 30 to under 50 | D30: Company-wide | E30: % | F30: 12.2 | G30: 16.55 | H30: 26.17
C31: Percentage of employees aged 50 and over | D31: Company-wide | E31: % | F31: 31.71 | G31: 12.41 | H31: 17.76
B32: 3. Employee length of service
B33: Average employee length of service | D33: Company-wide | E33: Years | F33: 16.7 | G33: 14.62 | H33: 13.47
B34: 4. Employee remuneration
B35: Average salary | C35: Male | D35: Company-wide | E35: KRW million | F35: 100 | G35: 101 | H35: 97
C36: Female | D36: Company-wide | E36: KRW million | F36: 58 | G36: 64 | H36: 62
B37: Ratio of female to male remuneration | D37: Company-wide | E37: % | F37: 58 | G37: 63.37 | H37: 63.92 | I37: - Female basic salary / male basic salary
B38: 5. Talent development
B39: Training hours | C39: Total training hours | D39: Company-wide | E39: Hours | F39: 3248 | G39: 3340 | H39: 3492 | I39: - Based on company-wide statutory mandatory training - Reflects joiners and leavers during the year, so differs from the employee headcount on the 'Economic' tab
C40: Training hours per employee | D40: Company-wide | E40: Hours | F40: 4 | G40: 4 | H40: 4 | I40: - Based on company-wide statutory mandatory training
...

Sheet Governance
A1: KPIC Governance (G) Indicators
A2: Indicator | D2: Site | E2: Unit | F2: 2023 | G2: 2024 | H2: 2025 | I2: Remarks
B3: 1. Composition of the highest governance body (Board of Directors) and its committees
B4: Number of Board members | D4: Company-wide | E4: Persons | F4: 7 | G4: 7 | H4: 7
B5: Independent directors | C5: Number | D5: Company-wide | E5: Persons | F5: 4 | G5: 4 | H5: 4
C6: Percentage | D6: Company-wide | E6: % | F6: 57.1 | G6: 57.1 | H6: 57
B7: Average tenure of Board members | D7: Company-wide | E7: Years | F7: 6.43 | G7: 7.43 | H7: 8.43
B8: Female directors on the Board | C8: Number | D8: Company-wide | E8: Persons | F8: 1 | G8: 1 | H8: 1
C9: Percentage | D9: Company-wide | E9: % | F9: 14.3 | G9: 14.3 | H9: 14.3
B10: Number of female registered executives who are not the controlling shareholder or their relatives | D10: Company-wide | E10: Persons | F10: 1 | G10: 1 | H10: 1
B11: Number of independent directors on the Audit Committee | D11: Company-wide | E11: Persons | F11: 3 | G11: 3 | H11: 3 | I11: - Composed entirely of independent directors
B12: Number of Audit Committee members meeting statutory accounting or financial expert requirements | D12: Company-wide | E12: Persons | F12: 2 | G12: 2 | H12: 2 | I12: - Business Report VI. Matters concerning the Board of Directors and other corporate bodies
B13: Number of directors on the Independent Director Nomination Committee | D13: Company-wide | E13: Persons | F13: 3 | G13: 3 | H13: 3 | I13: - Composed of 2 independent directors and 1 executive director
B14: 2. Composition of the governance body by category (based on the year-end Business Report)
B15: By gender | C15: Number of male Board members | D15: Company-wide | E15: Persons | F15: 6 | G15: 6 | H15: 6
C16: Number of female Board members | D16: Company-wide | E16: Persons | F16: 1 | G16: 1 | H16: 1
B17: By age | C17: Number of Board members under 30 | D17: Company-wide | E17: Persons | F17: 0 | G17: 0 | H17: 0
C18: Number of Board members aged 30 to under 50 | D18: Company-wide | E18: Persons | F18: 0 | G18: 0 | H18: 0
C19: Number of Board members aged 50 and over | D19: Company-wide | E19: Persons | F19: 7 | G19: 7 | H19: 7
B20: 3. Operation of the highest governance body (Board) and its committees
B21: Number of Board meetings held | D21: Company-wide | E21: Meetings | F21: 6 | G21: 7 | H21: 7
B22: Number of Audit Committee meetings held | D22: Company-wide | E22: Meetings | F22: 5 | G22: 5 | H22: 5
B23: Director training hours | D23: Company-wide | E23: Hours | F23: 1 | G23: 1 | H23: 1
B24: Advance notice period for convening the general meeting of shareholders | D24: Company-wide | E24: Weeks | F24: 2 | G24: 2 | H24: 2 | I24: - Stated in the Corporate Governance Report
B25: Minimum advance notice period allowing Board members to sufficiently review all Board agenda items | D25: Company-wide | E25: Weeks | F25: 1 | G25: 1 | H25: 1
B26: Non-audit service fees relative to audit service fees paid to the external auditor | D26: Company-wide | E26: % | F26: 0 | G26: 0 | H26: 0
B27: Number of independent directors with low attendance (below 75%) | D27: Company-wide | E27: Persons | F27: 1 | G27: 1 | H27: 0
B28: Number of agenda items on which independent directors dissented or proposed amendments | D28: Company-wide | E28: Cases | F28: 0 | G28: 0 | H28: 0
B29: 4. Nature and total number of critical concerns communicated to the highest governance body (Board)
B30: Number of critical concerns reported to the Board | D30: Company-wide | E30: Meetings | F30: 6 | G30: 7 | H30: 7
B31: 5. Corporate ownership / operation
B32: Shareholding of the largest shareholder and related parties | D32: Company-wide | E32: % | F32: 39.21 | G32: 39.11 | H32: 39.07
B33: Total shareholding of executive directors, excluding the largest shareholder and related parties | D33: Company-wide | E33: % | F33: 0.01 | G33: 0.01 | H33: 0.01
B34: Shareholding of holders of 5% or more, excluding the largest shareholder and related parties (incl. executives and affiliates) | D34: Company-wide | E34: % | F34: 11.66 | G34: 7.94 | H34: 10.54 | I34: - Business Report VII. Matters concerning shareholders
B35: Total shareholding of registered executives | D35: Company-wide | E35: % | F35: 2.56 | G35: 2.56 | H35: 2.56
B36: KPIC's ownership interests in affiliates | C36: Korea Airtech Co., Ltd. | D36: Company-wide | E36: % | F36: 100 | G36: 100 | H36: 100 | I36: - Business Report XII. Detailed tables - Investments in other corporations
C37: Odfjell Terminals Korea Co., Ltd. | D37: Company-wide | E37: % | F37: 43.59 | G37: 43.59 | H37: 43.59
C38: Hanju Co., Ltd. | D38: Company-wide | E38: % | F38: 49.24 | G38: 49.24 | H38: 50.13
C39: KPIC DAWN (SHANGHAI) POLYMER | D39: Company-wide | E39: % | F39: 50 | G39: 50 | H39: 50
B40: Treasury shares | C40: Purchase amount | D40: Company-wide | E40: KRW | F40: 0 | G40: 0 | H40: 0 | I40: - Business Report I. Company overview - 4. Total number of shares, etc.
...
